BEGIN:VCALENDAR
VERSION:2.0
PRODID:-//The Harwich Centre Guild - ECPv6.15.17//NONSGML v1.0//EN
CALSCALE:GREGORIAN
METHOD:PUBLISH
X-ORIGINAL-URL:https://www.harwichguild.org.uk
X-WR-CALDESC:Events for The Harwich Centre Guild
REFRESH-INTERVAL;VALUE=DURATION:PT1H
X-Robots-Tag:noindex
X-PUBLISHED-TTL:PT1H
BEGIN:VTIMEZONE
TZID:Europe/London
BEGIN:DAYLIGHT
TZOFFSETFROM:+0000
TZOFFSETTO:+0100
TZNAME:BST
DTSTART:20220327T010000
END:DAYLIGHT
BEGIN:STANDARD
TZOFFSETFROM:+0100
TZOFFSETTO:+0000
TZNAME:GMT
DTSTART:20221030T010000
END:STANDARD
BEGIN:DAYLIGHT
TZOFFSETFROM:+0000
TZOFFSETTO:+0100
TZNAME:BST
DTSTART:20230326T010000
END:DAYLIGHT
BEGIN:STANDARD
TZOFFSETFROM:+0100
TZOFFSETTO:+0000
TZNAME:GMT
DTSTART:20231029T010000
END:STANDARD
BEGIN:DAYLIGHT
TZOFFSETFROM:+0000
TZOFFSETTO:+0100
TZNAME:BST
DTSTART:20240331T010000
END:DAYLIGHT
BEGIN:STANDARD
TZOFFSETFROM:+0100
TZOFFSETTO:+0000
TZNAME:GMT
DTSTART:20241027T010000
END:STANDARD
BEGIN:DAYLIGHT
TZOFFSETFROM:+0000
TZOFFSETTO:+0100
TZNAME:BST
DTSTART:20250330T010000
END:DAYLIGHT
BEGIN:STANDARD
TZOFFSETFROM:+0100
TZOFFSETTO:+0000
TZNAME:GMT
DTSTART:20251026T010000
END:STANDARD
END:VTIMEZONE
BEGIN:VEVENT
DTSTART;TZID=Europe/London:20230607T100000
DTEND;TZID=Europe/London:20230607T120000
DTSTAMP:20260422T003308
CREATED:20220911T103857Z
LAST-MODIFIED:20220911T103857Z
UID:657-1686132000-1686139200@www.harwichguild.org.uk
SUMMARY:The history of music
DESCRIPTION:With Hattie Bennett
URL:https://www.harwichguild.org.uk/event/the-history-of-music/
LOCATION:United Services Club\, Harwich\, Essex\, CO12 3NS\, United Kingdom
CATEGORIES:Wednesday meeting
END:VEVENT
BEGIN:VEVENT
DTSTART;TZID=Europe/London:20230614T100000
DTEND;TZID=Europe/London:20230614T120000
DTSTAMP:20260422T003308
CREATED:20220911T104028Z
LAST-MODIFIED:20220911T104028Z
UID:659-1686736800-1686744000@www.harwichguild.org.uk
SUMMARY:Biberach revisited
DESCRIPTION:With Carole Wheatley
URL:https://www.harwichguild.org.uk/event/biberach-revisited/
LOCATION:United Services Club\, Harwich\, Essex\, CO12 3NS\, United Kingdom
CATEGORIES:Wednesday meeting
END:VEVENT
BEGIN:VEVENT
DTSTART;TZID=Europe/London:20230621T100000
DTEND;TZID=Europe/London:20230621T120000
DTSTAMP:20260422T003308
CREATED:20220911T104242Z
LAST-MODIFIED:20220911T104242Z
UID:661-1687341600-1687348800@www.harwichguild.org.uk
SUMMARY:Annual General Meeting
DESCRIPTION:Please see a committee member for further information.
URL:https://www.harwichguild.org.uk/event/annual-general-meeting/
LOCATION:United Services Club\, Harwich\, Essex\, CO12 3NS\, United Kingdom
CATEGORIES:Special,Wednesday meeting
ATTACH;FMTTYPE=image/jpeg:https://www.harwichguild.org.uk/wp-content/uploads/2019/11/guilddrawing_agm.jpg
END:VEVENT
BEGIN:VEVENT
DTSTART;TZID=Europe/London:20230906T100000
DTEND;TZID=Europe/London:20230906T120000
DTSTAMP:20260422T003308
CREATED:20220911T104418Z
LAST-MODIFIED:20220911T104418Z
UID:663-1693994400-1694001600@www.harwichguild.org.uk
SUMMARY:Enrolment 2023/24
DESCRIPTION:Welcome back.
URL:https://www.harwichguild.org.uk/event/enrolment-2023-24/
LOCATION:United Services Club\, Harwich\, Essex\, CO12 3NS\, United Kingdom
CATEGORIES:Special,Wednesday meeting
ATTACH;FMTTYPE=image/jpeg:https://www.harwichguild.org.uk/wp-content/uploads/2019/11/guilddrawing_020920.jpg
END:VEVENT
BEGIN:VEVENT
DTSTART;TZID=Europe/London:20230913T100000
DTEND;TZID=Europe/London:20230913T120000
DTSTAMP:20260422T003308
CREATED:20230911T204220Z
LAST-MODIFIED:20230911T204220Z
UID:693-1694599200-1694606400@www.harwichguild.org.uk
SUMMARY:Walk on the Wildside - Brazil
DESCRIPTION:Mary and Graham Brace with “Walk on the Wildside – Brazil”.
URL:https://www.harwichguild.org.uk/event/walk-on-the-wildside-brazil/
LOCATION:United Services Club\, Harwich\, Essex\, CO12 3NS\, United Kingdom
CATEGORIES:Wednesday meeting
END:VEVENT
BEGIN:VEVENT
DTSTART;TZID=Europe/London:20230920T100000
DTEND;TZID=Europe/London:20230920T120000
DTSTAMP:20260422T003308
CREATED:20230913T101315Z
LAST-MODIFIED:20230913T101515Z
UID:714-1695204000-1695211200@www.harwichguild.org.uk
SUMMARY:Elizabeth Garrett Anderson
DESCRIPTION:Mark Mitchels talks about Elizabeth Garrett Anderson \nElizabeth Garrett Anderson was an English physician and suffragist. She was the first woman to qualify in Britain as a physician and surgeon.
URL:https://www.harwichguild.org.uk/event/elizabeth-garrett-anderson/
LOCATION:United Services Club\, Harwich\, Essex\, CO12 3NS\, United Kingdom
CATEGORIES:Wednesday meeting
ATTACH;FMTTYPE=image/jpeg:https://www.harwichguild.org.uk/wp-content/uploads/2023/09/Elizabeth_Garrett_Anderson_detail_of_painting.jpg
END:VEVENT
BEGIN:VEVENT
DTSTART;TZID=Europe/London:20230927T100000
DTEND;TZID=Europe/London:20230927T120000
DTSTAMP:20260422T003308
CREATED:20230913T101918Z
LAST-MODIFIED:20230913T102629Z
UID:719-1695808800-1695816000@www.harwichguild.org.uk
SUMMARY:Dick Turpin – The Myth and The Man
DESCRIPTION:Stephen Poulter discusses Dick Turpin – The Myth and The Man \nRichard Turpin (bapt. 21 September 1705 – 7 April 1739) was an English highwayman whose exploits were romanticised following his execution in York for horse theft.
URL:https://www.harwichguild.org.uk/event/dick-turpin-the-myth-and-the-man/
LOCATION:United Services Club\, Harwich\, Essex\, CO12 3NS\, United Kingdom
CATEGORIES:Wednesday meeting
ATTACH;FMTTYPE=image/jpeg:https://www.harwichguild.org.uk/wp-content/uploads/2023/09/Dick_turpin_jumping_hornsey_tollgate.jpg
END:VEVENT
BEGIN:VEVENT
DTSTART;TZID=Europe/London:20231004T100000
DTEND;TZID=Europe/London:20231004T120000
DTSTAMP:20260422T003308
CREATED:20230914T085200Z
LAST-MODIFIED:20230917T090043Z
UID:724-1696413600-1696420800@www.harwichguild.org.uk
SUMMARY:Journey to Citizenship
DESCRIPTION:Linda Scoles talks about a Journey to Citizenship
URL:https://www.harwichguild.org.uk/event/journey-to-citizenship/
LOCATION:United Services Club\, Harwich\, Essex\, CO12 3NS\, United Kingdom
CATEGORIES:Wednesday meeting
ATTACH;FMTTYPE=image/jpeg:https://www.harwichguild.org.uk/wp-content/uploads/2023/09/british_passport.jpg
END:VEVENT
BEGIN:VEVENT
DTSTART;TZID=Europe/London:20231011T100000
DTEND;TZID=Europe/London:20231011T120000
DTSTAMP:20260422T003308
CREATED:20230914T085321Z
LAST-MODIFIED:20230914T085800Z
UID:728-1697018400-1697025600@www.harwichguild.org.uk
SUMMARY:Brother Harry and the Shakers
DESCRIPTION:David Eniffer talks about Brother Harry and the Shakers \n“This is not a talk about a sixties rock band! It is a Victorian tale of betrayal\, a female Messiah\, riots\, a controversial religious sect\, manslaughter charges and much more. This is no melodramatic Victorian novel but a real life story.”
URL:https://www.harwichguild.org.uk/event/brother-harry-and-the-shakers/
LOCATION:United Services Club\, Harwich\, Essex\, CO12 3NS\, United Kingdom
CATEGORIES:Wednesday meeting
ATTACH;FMTTYPE=image/jpeg:https://www.harwichguild.org.uk/wp-content/uploads/2023/09/brother-harry-the-en-full.jpg
END:VEVENT
BEGIN:VEVENT
DTSTART;TZID=Europe/London:20231018T100000
DTEND;TZID=Europe/London:20231018T120000
DTSTAMP:20260422T003308
CREATED:20230914T085939Z
LAST-MODIFIED:20230926T125736Z
UID:735-1697623200-1697630400@www.harwichguild.org.uk
SUMMARY:The Taylor Maids
DESCRIPTION:Peter Jones talks about The Taylor Maids. \nThe “Taylor Maids” referred to are Ann & Jane Taylor\, authors of “Twinkle\, Twinkle Little Star”. They lived in West Stockwell Street\, Colchester\, in the 1800’s
URL:https://www.harwichguild.org.uk/event/the-taylor-maids/
LOCATION:United Services Club\, Harwich\, Essex\, CO12 3NS\, United Kingdom
CATEGORIES:Wednesday meeting
ATTACH;FMTTYPE=image/jpeg:https://www.harwichguild.org.uk/wp-content/uploads/2023/09/Taylor-Maids-Colchester-statue.jpeg
END:VEVENT
BEGIN:VEVENT
DTSTART;TZID=Europe/London:20231101T100000
DTEND;TZID=Europe/London:20231101T120000
DTSTAMP:20260422T003308
CREATED:20230914T090526Z
LAST-MODIFIED:20230914T090526Z
UID:739-1698832800-1698840000@www.harwichguild.org.uk
SUMMARY:Recent Excavations in and around Colchester
DESCRIPTION:Adam Wightman of the Colchester Archaeological Trust discusses Recent Excavations in and around Colchester
URL:https://www.harwichguild.org.uk/event/recent-excavations-in-and-around-colchester/
LOCATION:United Services Club\, Harwich\, Essex\, CO12 3NS\, United Kingdom
CATEGORIES:Wednesday meeting
ATTACH;FMTTYPE=image/jpeg:https://www.harwichguild.org.uk/wp-content/uploads/2023/09/HiRes-Chariot-Logo-768x512-1.jpg
END:VEVENT
BEGIN:VEVENT
DTSTART;TZID=Europe/London:20231108T100000
DTEND;TZID=Europe/London:20231108T120000
DTSTAMP:20260422T003308
CREATED:20230914T090704Z
LAST-MODIFIED:20230926T111621Z
UID:742-1699437600-1699444800@www.harwichguild.org.uk
SUMMARY:Wartime in Tendring District
DESCRIPTION:Hugh Frostick talks about Wartime in Tendring District
URL:https://www.harwichguild.org.uk/event/wartime-in-tendring-district/
LOCATION:United Services Club\, Harwich\, Essex\, CO12 3NS\, United Kingdom
CATEGORIES:Wednesday meeting
ATTACH;FMTTYPE=image/jpeg:https://www.harwichguild.org.uk/wp-content/uploads/2023/09/harwichgrenade.jpg
END:VEVENT
BEGIN:VEVENT
DTSTART;TZID=Europe/London:20231122T100000
DTEND;TZID=Europe/London:20231122T120000
DTSTAMP:20260422T003308
CREATED:20230917T084834Z
LAST-MODIFIED:20230917T085028Z
UID:744-1700647200-1700654400@www.harwichguild.org.uk
SUMMARY:My Life as a Hi De Hi Yellow Coat
DESCRIPTION:David Webb talks about My Life as a “Hi De Hi” Yellow Coat\, which was filmed in Dovercourt
URL:https://www.harwichguild.org.uk/event/my-life-as-a-hi-de-hi-yellow-coat/
LOCATION:United Services Club\, Harwich\, Essex\, CO12 3NS\, United Kingdom
CATEGORIES:Wednesday meeting
ATTACH;FMTTYPE=image/jpeg:https://www.harwichguild.org.uk/wp-content/uploads/2023/09/David_Webb_hidehi.jpg
END:VEVENT
BEGIN:VEVENT
DTSTART;TZID=Europe/London:20231129T100000
DTEND;TZID=Europe/London:20231129T120000
DTSTAMP:20260422T003308
CREATED:20230917T085158Z
LAST-MODIFIED:20230917T085809Z
UID:747-1701252000-1701259200@www.harwichguild.org.uk
SUMMARY:Military Tailoring and its Connection with Harwich
DESCRIPTION:Lee Dawson talks about Military Tailoring and its Connection with Harwich
URL:https://www.harwichguild.org.uk/event/military-tailoring-and-its-connection-with-harwich/
LOCATION:United Services Club\, Harwich\, Essex\, CO12 3NS\, United Kingdom
CATEGORIES:Wednesday meeting
ATTACH;FMTTYPE=image/webp:https://www.harwichguild.org.uk/wp-content/uploads/2023/09/CoronationUniforms4.webp
END:VEVENT
BEGIN:VEVENT
DTSTART;TZID=Europe/London:20231206T100000
DTEND;TZID=Europe/London:20231206T120000
DTSTAMP:20260422T003308
CREATED:20230917T090744Z
LAST-MODIFIED:20230917T090855Z
UID:751-1701856800-1701864000@www.harwichguild.org.uk
SUMMARY:Erik’s Pre-Christmas Cracker
DESCRIPTION:Erik Punak’s Pre-Christmas Cracker – A Slightly Seasonal Miscellany
URL:https://www.harwichguild.org.uk/event/eriks-pre-christmas-cracker/
LOCATION:United Services Club\, Harwich\, Essex\, CO12 3NS\, United Kingdom
CATEGORIES:Special,Wednesday meeting
ATTACH;FMTTYPE=image/png:https://www.harwichguild.org.uk/wp-content/uploads/2023/09/gaelic_xmas.png
END:VEVENT
BEGIN:VEVENT
DTSTART;TZID=Europe/London:20240110T100000
DTEND;TZID=Europe/London:20240110T120000
DTSTAMP:20260422T003308
CREATED:20230917T091721Z
LAST-MODIFIED:20230917T092607Z
UID:757-1704880800-1704888000@www.harwichguild.org.uk
SUMMARY:The Train Ferry 1918-1987
DESCRIPTION:David Whittle recalls The Train Ferry 1918-1987
URL:https://www.harwichguild.org.uk/event/the-train-ferry-1918-1987/
LOCATION:United Services Club\, Harwich\, Essex\, CO12 3NS\, United Kingdom
CATEGORIES:Wednesday meeting
ATTACH;FMTTYPE=image/jpeg:https://www.harwichguild.org.uk/wp-content/uploads/2023/09/IMG_4696a-scaled.jpg
END:VEVENT
BEGIN:VEVENT
DTSTART;TZID=Europe/London:20240117T100000
DTEND;TZID=Europe/London:20240117T120000
DTSTAMP:20260422T003308
CREATED:20230917T151646Z
LAST-MODIFIED:20230917T152038Z
UID:760-1705485600-1705492800@www.harwichguild.org.uk
SUMMARY:A Lake Like No Other
DESCRIPTION:Cherry Mullins returns to talk about A Lake Like No Other \n“Stunning slides and fascinating stories of the grandest lake in Italy – Lake Garda.”
URL:https://www.harwichguild.org.uk/event/a-lake-like-no-other/
LOCATION:United Services Club\, Harwich\, Essex\, CO12 3NS\, United Kingdom
CATEGORIES:Wednesday meeting
ATTACH;FMTTYPE=image/jpeg:https://www.harwichguild.org.uk/wp-content/uploads/2023/09/La_Rocca_di_Manerba_del_Garda_con_lisola_dei_Conigli-scaled.jpg
END:VEVENT
BEGIN:VEVENT
DTSTART;TZID=Europe/London:20240124T100000
DTEND;TZID=Europe/London:20240124T120000
DTSTAMP:20260422T003308
CREATED:20230917T152223Z
LAST-MODIFIED:20230917T152424Z
UID:767-1706090400-1706097600@www.harwichguild.org.uk
SUMMARY:Josephine Baker\, an American in Paris
DESCRIPTION:Paula Short discusses  Josephine Baker\, an American in Paris \nFreda Josephine Baker (née McDonald; June 3\, 1906 – April 12\, 1975)\, naturalised as Joséphine Baker\, was an American-born French dancer\, singer and actress.
URL:https://www.harwichguild.org.uk/event/josephine-baker-an-american-in-paris/
LOCATION:United Services Club\, Harwich\, Essex\, CO12 3NS\, United Kingdom
CATEGORIES:Wednesday meeting
ATTACH;FMTTYPE=image/jpeg:https://www.harwichguild.org.uk/wp-content/uploads/2023/09/Josephine-Baker-AP-1.jpg
END:VEVENT
BEGIN:VEVENT
DTSTART;TZID=Europe/London:20240131T100000
DTEND;TZID=Europe/London:20240131T120000
DTSTAMP:20260422T003308
CREATED:20230919T131644Z
LAST-MODIFIED:20230926T125229Z
UID:770-1706695200-1706702400@www.harwichguild.org.uk
SUMMARY:Our Street
DESCRIPTION:Brian Carline talks about Our Street\, an illustrated\, bitter sweet talk about street life in an industrial city in the 50s.
URL:https://www.harwichguild.org.uk/event/our-street/
LOCATION:United Services Club\, Harwich\, Essex\, CO12 3NS\, United Kingdom
CATEGORIES:Wednesday meeting
ATTACH;FMTTYPE=image/jpeg:https://www.harwichguild.org.uk/wp-content/uploads/2023/09/915px-WWII_London_Blitz_East_London.jpg
END:VEVENT
BEGIN:VEVENT
DTSTART;TZID=Europe/London:20240207T100000
DTEND;TZID=Europe/London:20240207T120000
DTSTAMP:20260422T003308
CREATED:20230919T131807Z
LAST-MODIFIED:20230926T185039Z
UID:772-1707300000-1707307200@www.harwichguild.org.uk
SUMMARY:Willow in the Landscape
DESCRIPTION:Deborah Hart talks about Willow in the Landscape and Weaving. Her talk includes a demonstration of weaving.
URL:https://www.harwichguild.org.uk/event/willow-in-the-landscape/
LOCATION:United Services Club\, Harwich\, Essex\, CO12 3NS\, United Kingdom
CATEGORIES:Wednesday meeting
END:VEVENT
BEGIN:VEVENT
DTSTART;TZID=Europe/London:20240214T100000
DTEND;TZID=Europe/London:20240214T120000
DTSTAMP:20260422T003308
CREATED:20230919T131932Z
LAST-MODIFIED:20230926T104031Z
UID:774-1707904800-1707912000@www.harwichguild.org.uk
SUMMARY:The Realm of the Polar Bear
DESCRIPTION:Chris Parfitt discusses The Realm of the Polar Bear
URL:https://www.harwichguild.org.uk/event/the-realm-of-the-polar-bear/
LOCATION:United Services Club\, Harwich\, Essex\, CO12 3NS\, United Kingdom
CATEGORIES:Wednesday meeting
ATTACH;FMTTYPE=image/png:https://www.harwichguild.org.uk/wp-content/uploads/2023/09/Polar-bear-on-ices.png
END:VEVENT
BEGIN:VEVENT
DTSTART;TZID=Europe/London:20240228T100000
DTEND;TZID=Europe/London:20240228T120000
DTSTAMP:20260422T003308
CREATED:20230926T102801Z
LAST-MODIFIED:20240117T175923Z
UID:777-1709114400-1709121600@www.harwichguild.org.uk
SUMMARY:Dad’s Army – the Nation’s Favourite Comedy (Revised date)
DESCRIPTION:Charles Garland discusses Dad’s Army – the Nation’s Favourite Comedy \n 
URL:https://www.harwichguild.org.uk/event/dads-army-the-nations-favourite-comedy/
LOCATION:United Services Club\, Harwich\, Essex\, CO12 3NS\, United Kingdom
CATEGORIES:Wednesday meeting
ATTACH;FMTTYPE=image/webp:https://www.harwichguild.org.uk/wp-content/uploads/2023/09/Dad27s_Army.webp
END:VEVENT
BEGIN:VEVENT
DTSTART;TZID=Europe/London:20240306T100000
DTEND;TZID=Europe/London:20240306T120000
DTSTAMP:20260422T003308
CREATED:20230926T103346Z
LAST-MODIFIED:20230926T103544Z
UID:781-1709719200-1709726400@www.harwichguild.org.uk
SUMMARY:Nature Through the Seasons (Part 1)
DESCRIPTION:Roger Hanse presents Nature Through the Seasons  \nPart 1: Spring and Summer
URL:https://www.harwichguild.org.uk/event/nature-through-the-seasons-part-1/
LOCATION:United Services Club\, Harwich\, Essex\, CO12 3NS\, United Kingdom
CATEGORIES:Wednesday meeting
ATTACH;FMTTYPE=image/jpeg:https://www.harwichguild.org.uk/wp-content/uploads/2023/09/FlatfordMill-wide.jpg
END:VEVENT
BEGIN:VEVENT
DTSTART;TZID=Europe/London:20240320T100000
DTEND;TZID=Europe/London:20240320T120000
DTSTAMP:20260422T003308
CREATED:20230926T104557Z
LAST-MODIFIED:20230926T104557Z
UID:786-1710928800-1710936000@www.harwichguild.org.uk
SUMMARY:Animal Behaviour
DESCRIPTION:Andy Moore of Colchester Zoo presents Animal Behaviour
URL:https://www.harwichguild.org.uk/event/animal-behaviour/
LOCATION:United Services Club\, Harwich\, Essex\, CO12 3NS\, United Kingdom
CATEGORIES:Wednesday meeting
ATTACH;FMTTYPE=image/jpeg:https://www.harwichguild.org.uk/wp-content/uploads/2019/11/colchester-zoo.jpg
END:VEVENT
BEGIN:VEVENT
DTSTART;TZID=Europe/London:20240327T100000
DTEND;TZID=Europe/London:20240327T120000
DTSTAMP:20260422T003308
CREATED:20230926T104751Z
LAST-MODIFIED:20230926T110142Z
UID:788-1711533600-1711540800@www.harwichguild.org.uk
SUMMARY:Through the Green Baize Door - A Life in Service
DESCRIPTION:Bryan Thurlow presents Through the Green Baize Door – A Life In Service \nBryan Thurlow\, an East Anglian historian with a background in professional theatre\, presents George Barrington\, a retired butler of the Victorian and Edwardian era.
URL:https://www.harwichguild.org.uk/event/through-the-green-baize-door/
LOCATION:United Services Club\, Harwich\, Essex\, CO12 3NS\, United Kingdom
CATEGORIES:Wednesday meeting
ATTACH;FMTTYPE=image/jpeg:https://www.harwichguild.org.uk/wp-content/uploads/2023/09/Butler.jpg
END:VEVENT
BEGIN:VEVENT
DTSTART;TZID=Europe/London:20240417T100000
DTEND;TZID=Europe/London:20240417T120000
DTSTAMP:20260422T003308
CREATED:20230926T110456Z
LAST-MODIFIED:20230926T111139Z
UID:797-1713348000-1713355200@www.harwichguild.org.uk
SUMMARY:The Rest of Your Natural Life
DESCRIPTION:Pip Wright presents The Rest of Your Natural Life \nPip Wright tells stories of Suffolk Convicts\, sentenced to transportation to Australia during the period 1787-1867. Find out not only what happened to them\, but also to the families they left behind.
URL:https://www.harwichguild.org.uk/event/the-rest-of-your-natural-life/
LOCATION:United Services Club\, Harwich\, Essex\, CO12 3NS\, United Kingdom
CATEGORIES:Wednesday meeting
ATTACH;FMTTYPE=image/jpeg:https://www.harwichguild.org.uk/wp-content/uploads/2023/09/The_First_Fleet_entering_Port_Jackson_January_26_1788_drawn_1888_A9333001h.jpg
END:VEVENT
BEGIN:VEVENT
DTSTART;TZID=Europe/London:20240424T100000
DTEND;TZID=Europe/London:20240424T120000
DTSTAMP:20260422T003308
CREATED:20230926T111832Z
LAST-MODIFIED:20230926T114425Z
UID:802-1713952800-1713960000@www.harwichguild.org.uk
SUMMARY:Polydactyl Cats and Interesting Facts
DESCRIPTION:Peggy Griffin presents  Polydactyl Cats and Interesting Facts
URL:https://www.harwichguild.org.uk/event/polydactyl-cats-and-interesting-facts/
LOCATION:United Services Club\, Harwich\, Essex\, CO12 3NS\, United Kingdom
CATEGORIES:Wednesday meeting
ATTACH;FMTTYPE=image/jpeg:https://www.harwichguild.org.uk/wp-content/uploads/2023/09/polydactyl-cat.jpg
END:VEVENT
BEGIN:VEVENT
DTSTART;TZID=Europe/London:20240501T100000
DTEND;TZID=Europe/London:20240501T120000
DTSTAMP:20260422T003308
CREATED:20230926T120215Z
LAST-MODIFIED:20230926T121015Z
UID:805-1714557600-1714564800@www.harwichguild.org.uk
SUMMARY:The Road to Novichok
DESCRIPTION:Neil Dickinson presents The Road to Novichok – Nerve Agents – the deadliest substances known
URL:https://www.harwichguild.org.uk/event/the-road-to-novichok/
LOCATION:United Services Club\, Harwich\, Essex\, CO12 3NS\, United Kingdom
CATEGORIES:Wednesday meeting
ATTACH;FMTTYPE=image/jpeg:https://www.harwichguild.org.uk/wp-content/uploads/2023/09/Novichok_A230_Mirzayanov_2009.jpg
END:VEVENT
BEGIN:VEVENT
DTSTART;TZID=Europe/London:20240515T100000
DTEND;TZID=Europe/London:20240515T120000
DTSTAMP:20260422T003308
CREATED:20230926T121336Z
LAST-MODIFIED:20230926T121753Z
UID:809-1715767200-1715774400@www.harwichguild.org.uk
SUMMARY:The History of Beth Chatto Gardens
DESCRIPTION:Julie Boulton\, Chief Executive\, presents The History of Beth Chatto Gardens
URL:https://www.harwichguild.org.uk/event/the-history-of-beth-chatto-gardens/
LOCATION:United Services Club\, Harwich\, Essex\, CO12 3NS\, United Kingdom
CATEGORIES:Wednesday meeting
ATTACH;FMTTYPE=image/jpeg:https://www.harwichguild.org.uk/wp-content/uploads/2023/09/Beth-Chatto-jpg.jpg
END:VEVENT
BEGIN:VEVENT
DTSTART;TZID=Europe/London:20240605T100000
DTEND;TZID=Europe/London:20240605T120000
DTSTAMP:20260422T003308
CREATED:20230926T122026Z
LAST-MODIFIED:20230926T122540Z
UID:814-1717581600-1717588800@www.harwichguild.org.uk
SUMMARY:The Harwich Turnpike Road
DESCRIPTION:Philip Cunningham presents The Harwich Turnpike Road\n \nThis talk tells the story of the Harwich turnpike road that ran the 72 miles between London and Harwich. This was one of the first turnpike roads and was introduced because of the strategic importance of Harwich both in terms of the military and trade. \n 
URL:https://www.harwichguild.org.uk/event/the-harwich-turnpike-road/
LOCATION:United Services Club\, Harwich\, Essex\, CO12 3NS\, United Kingdom
CATEGORIES:Wednesday meeting
ATTACH;FMTTYPE=image/jpeg:https://www.harwichguild.org.uk/wp-content/uploads/2023/09/Old_Milepost_-_geograph.org_.uk_-_1715740.jpg
END:VEVENT
END:VCALENDAR