BEGIN:VCALENDAR
VERSION:2.0
PRODID:-//The Harwich Centre Guild - ECPv6.15.17//NONSGML v1.0//EN
CALSCALE:GREGORIAN
METHOD:PUBLISH
X-ORIGINAL-URL:https://www.harwichguild.org.uk
X-WR-CALDESC:Events for The Harwich Centre Guild
REFRESH-INTERVAL;VALUE=DURATION:PT1H
X-Robots-Tag:noindex
X-PUBLISHED-TTL:PT1H
BEGIN:VTIMEZONE
TZID:Europe/London
BEGIN:DAYLIGHT
TZOFFSETFROM:+0000
TZOFFSETTO:+0100
TZNAME:BST
DTSTART:20230326T010000
END:DAYLIGHT
BEGIN:STANDARD
TZOFFSETFROM:+0100
TZOFFSETTO:+0000
TZNAME:GMT
DTSTART:20231029T010000
END:STANDARD
BEGIN:DAYLIGHT
TZOFFSETFROM:+0000
TZOFFSETTO:+0100
TZNAME:BST
DTSTART:20240331T010000
END:DAYLIGHT
BEGIN:STANDARD
TZOFFSETFROM:+0100
TZOFFSETTO:+0000
TZNAME:GMT
DTSTART:20241027T010000
END:STANDARD
BEGIN:DAYLIGHT
TZOFFSETFROM:+0000
TZOFFSETTO:+0100
TZNAME:BST
DTSTART:20250330T010000
END:DAYLIGHT
BEGIN:STANDARD
TZOFFSETFROM:+0100
TZOFFSETTO:+0000
TZNAME:GMT
DTSTART:20251026T010000
END:STANDARD
END:VTIMEZONE
BEGIN:VEVENT
DTSTART;TZID=Europe/London:20240207T100000
DTEND;TZID=Europe/London:20240207T120000
DTSTAMP:20260421T091208
CREATED:20230919T131807Z
LAST-MODIFIED:20230926T185039Z
UID:772-1707300000-1707307200@www.harwichguild.org.uk
SUMMARY:Willow in the Landscape
DESCRIPTION:Deborah Hart talks about Willow in the Landscape and Weaving. Her talk includes a demonstration of weaving.
URL:https://www.harwichguild.org.uk/event/willow-in-the-landscape/
LOCATION:United Services Club\, Harwich\, Essex\, CO12 3NS\, United Kingdom
CATEGORIES:Wednesday meeting
END:VEVENT
BEGIN:VEVENT
DTSTART;TZID=Europe/London:20240214T100000
DTEND;TZID=Europe/London:20240214T120000
DTSTAMP:20260421T091208
CREATED:20230919T131932Z
LAST-MODIFIED:20230926T104031Z
UID:774-1707904800-1707912000@www.harwichguild.org.uk
SUMMARY:The Realm of the Polar Bear
DESCRIPTION:Chris Parfitt discusses The Realm of the Polar Bear
URL:https://www.harwichguild.org.uk/event/the-realm-of-the-polar-bear/
LOCATION:United Services Club\, Harwich\, Essex\, CO12 3NS\, United Kingdom
CATEGORIES:Wednesday meeting
ATTACH;FMTTYPE=image/png:https://www.harwichguild.org.uk/wp-content/uploads/2023/09/Polar-bear-on-ices.png
END:VEVENT
BEGIN:VEVENT
DTSTART;TZID=Europe/London:20240228T100000
DTEND;TZID=Europe/London:20240228T120000
DTSTAMP:20260421T091208
CREATED:20230926T102801Z
LAST-MODIFIED:20240117T175923Z
UID:777-1709114400-1709121600@www.harwichguild.org.uk
SUMMARY:Dad’s Army – the Nation’s Favourite Comedy (Revised date)
DESCRIPTION:Charles Garland discusses Dad’s Army – the Nation’s Favourite Comedy \n 
URL:https://www.harwichguild.org.uk/event/dads-army-the-nations-favourite-comedy/
LOCATION:United Services Club\, Harwich\, Essex\, CO12 3NS\, United Kingdom
CATEGORIES:Wednesday meeting
ATTACH;FMTTYPE=image/webp:https://www.harwichguild.org.uk/wp-content/uploads/2023/09/Dad27s_Army.webp
END:VEVENT
END:VCALENDAR