BEGIN:VCALENDAR
VERSION:2.0
PRODID:-//The Harwich Centre Guild - ECPv6.15.17//NONSGML v1.0//EN
CALSCALE:GREGORIAN
METHOD:PUBLISH
X-WR-CALNAME:The Harwich Centre Guild
X-ORIGINAL-URL:https://www.harwichguild.org.uk
X-WR-CALDESC:Events for The Harwich Centre Guild
REFRESH-INTERVAL;VALUE=DURATION:PT1H
X-Robots-Tag:noindex
X-PUBLISHED-TTL:PT1H
BEGIN:VTIMEZONE
TZID:Europe/London
BEGIN:DAYLIGHT
TZOFFSETFROM:+0000
TZOFFSETTO:+0100
TZNAME:BST
DTSTART:20220327T010000
END:DAYLIGHT
BEGIN:STANDARD
TZOFFSETFROM:+0100
TZOFFSETTO:+0000
TZNAME:GMT
DTSTART:20221030T010000
END:STANDARD
BEGIN:DAYLIGHT
TZOFFSETFROM:+0000
TZOFFSETTO:+0100
TZNAME:BST
DTSTART:20230326T010000
END:DAYLIGHT
BEGIN:STANDARD
TZOFFSETFROM:+0100
TZOFFSETTO:+0000
TZNAME:GMT
DTSTART:20231029T010000
END:STANDARD
BEGIN:DAYLIGHT
TZOFFSETFROM:+0000
TZOFFSETTO:+0100
TZNAME:BST
DTSTART:20240331T010000
END:DAYLIGHT
BEGIN:STANDARD
TZOFFSETFROM:+0100
TZOFFSETTO:+0000
TZNAME:GMT
DTSTART:20241027T010000
END:STANDARD
END:VTIMEZONE
BEGIN:VEVENT
DTSTART;TZID=Europe/London:20231101T100000
DTEND;TZID=Europe/London:20231101T120000
DTSTAMP:20260421T114204
CREATED:20230914T090526Z
LAST-MODIFIED:20230914T090526Z
UID:739-1698832800-1698840000@www.harwichguild.org.uk
SUMMARY:Recent Excavations in and around Colchester
DESCRIPTION:Adam Wightman of the Colchester Archaeological Trust discusses Recent Excavations in and around Colchester
URL:https://www.harwichguild.org.uk/event/recent-excavations-in-and-around-colchester/
LOCATION:United Services Club\, Harwich\, Essex\, CO12 3NS\, United Kingdom
CATEGORIES:Wednesday meeting
ATTACH;FMTTYPE=image/jpeg:https://www.harwichguild.org.uk/wp-content/uploads/2023/09/HiRes-Chariot-Logo-768x512-1.jpg
END:VEVENT
BEGIN:VEVENT
DTSTART;TZID=Europe/London:20231108T100000
DTEND;TZID=Europe/London:20231108T120000
DTSTAMP:20260421T114204
CREATED:20230914T090704Z
LAST-MODIFIED:20230926T111621Z
UID:742-1699437600-1699444800@www.harwichguild.org.uk
SUMMARY:Wartime in Tendring District
DESCRIPTION:Hugh Frostick talks about Wartime in Tendring District
URL:https://www.harwichguild.org.uk/event/wartime-in-tendring-district/
LOCATION:United Services Club\, Harwich\, Essex\, CO12 3NS\, United Kingdom
CATEGORIES:Wednesday meeting
ATTACH;FMTTYPE=image/jpeg:https://www.harwichguild.org.uk/wp-content/uploads/2023/09/harwichgrenade.jpg
END:VEVENT
BEGIN:VEVENT
DTSTART;TZID=Europe/London:20231122T100000
DTEND;TZID=Europe/London:20231122T120000
DTSTAMP:20260421T114204
CREATED:20230917T084834Z
LAST-MODIFIED:20230917T085028Z
UID:744-1700647200-1700654400@www.harwichguild.org.uk
SUMMARY:My Life as a Hi De Hi Yellow Coat
DESCRIPTION:David Webb talks about My Life as a “Hi De Hi” Yellow Coat\, which was filmed in Dovercourt
URL:https://www.harwichguild.org.uk/event/my-life-as-a-hi-de-hi-yellow-coat/
LOCATION:United Services Club\, Harwich\, Essex\, CO12 3NS\, United Kingdom
CATEGORIES:Wednesday meeting
ATTACH;FMTTYPE=image/jpeg:https://www.harwichguild.org.uk/wp-content/uploads/2023/09/David_Webb_hidehi.jpg
END:VEVENT
BEGIN:VEVENT
DTSTART;TZID=Europe/London:20231129T100000
DTEND;TZID=Europe/London:20231129T120000
DTSTAMP:20260421T114204
CREATED:20230917T085158Z
LAST-MODIFIED:20230917T085809Z
UID:747-1701252000-1701259200@www.harwichguild.org.uk
SUMMARY:Military Tailoring and its Connection with Harwich
DESCRIPTION:Lee Dawson talks about Military Tailoring and its Connection with Harwich
URL:https://www.harwichguild.org.uk/event/military-tailoring-and-its-connection-with-harwich/
LOCATION:United Services Club\, Harwich\, Essex\, CO12 3NS\, United Kingdom
CATEGORIES:Wednesday meeting
ATTACH;FMTTYPE=image/webp:https://www.harwichguild.org.uk/wp-content/uploads/2023/09/CoronationUniforms4.webp
END:VEVENT
END:VCALENDAR