BEGIN:VCALENDAR
VERSION:2.0
PRODID:-//The Harwich Centre Guild - ECPv6.15.17//NONSGML v1.0//EN
CALSCALE:GREGORIAN
METHOD:PUBLISH
X-WR-CALNAME:The Harwich Centre Guild
X-ORIGINAL-URL:https://www.harwichguild.org.uk
X-WR-CALDESC:Events for The Harwich Centre Guild
REFRESH-INTERVAL;VALUE=DURATION:PT1H
X-Robots-Tag:noindex
X-PUBLISHED-TTL:PT1H
BEGIN:VTIMEZONE
TZID:Europe/London
BEGIN:DAYLIGHT
TZOFFSETFROM:+0000
TZOFFSETTO:+0100
TZNAME:BST
DTSTART:20220327T010000
END:DAYLIGHT
BEGIN:STANDARD
TZOFFSETFROM:+0100
TZOFFSETTO:+0000
TZNAME:GMT
DTSTART:20221030T010000
END:STANDARD
BEGIN:DAYLIGHT
TZOFFSETFROM:+0000
TZOFFSETTO:+0100
TZNAME:BST
DTSTART:20230326T010000
END:DAYLIGHT
BEGIN:STANDARD
TZOFFSETFROM:+0100
TZOFFSETTO:+0000
TZNAME:GMT
DTSTART:20231029T010000
END:STANDARD
BEGIN:DAYLIGHT
TZOFFSETFROM:+0000
TZOFFSETTO:+0100
TZNAME:BST
DTSTART:20240331T010000
END:DAYLIGHT
BEGIN:STANDARD
TZOFFSETFROM:+0100
TZOFFSETTO:+0000
TZNAME:GMT
DTSTART:20241027T010000
END:STANDARD
END:VTIMEZONE
BEGIN:VEVENT
DTSTART;TZID=Europe/London:20231004T100000
DTEND;TZID=Europe/London:20231004T120000
DTSTAMP:20260421T130205
CREATED:20230914T085200Z
LAST-MODIFIED:20230917T090043Z
UID:724-1696413600-1696420800@www.harwichguild.org.uk
SUMMARY:Journey to Citizenship
DESCRIPTION:Linda Scoles talks about a Journey to Citizenship
URL:https://www.harwichguild.org.uk/event/journey-to-citizenship/
LOCATION:United Services Club\, Harwich\, Essex\, CO12 3NS\, United Kingdom
CATEGORIES:Wednesday meeting
ATTACH;FMTTYPE=image/jpeg:https://www.harwichguild.org.uk/wp-content/uploads/2023/09/british_passport.jpg
END:VEVENT
BEGIN:VEVENT
DTSTART;TZID=Europe/London:20231011T100000
DTEND;TZID=Europe/London:20231011T120000
DTSTAMP:20260421T130205
CREATED:20230914T085321Z
LAST-MODIFIED:20230914T085800Z
UID:728-1697018400-1697025600@www.harwichguild.org.uk
SUMMARY:Brother Harry and the Shakers
DESCRIPTION:David Eniffer talks about Brother Harry and the Shakers \n“This is not a talk about a sixties rock band! It is a Victorian tale of betrayal\, a female Messiah\, riots\, a controversial religious sect\, manslaughter charges and much more. This is no melodramatic Victorian novel but a real life story.”
URL:https://www.harwichguild.org.uk/event/brother-harry-and-the-shakers/
LOCATION:United Services Club\, Harwich\, Essex\, CO12 3NS\, United Kingdom
CATEGORIES:Wednesday meeting
ATTACH;FMTTYPE=image/jpeg:https://www.harwichguild.org.uk/wp-content/uploads/2023/09/brother-harry-the-en-full.jpg
END:VEVENT
BEGIN:VEVENT
DTSTART;TZID=Europe/London:20231018T100000
DTEND;TZID=Europe/London:20231018T120000
DTSTAMP:20260421T130205
CREATED:20230914T085939Z
LAST-MODIFIED:20230926T125736Z
UID:735-1697623200-1697630400@www.harwichguild.org.uk
SUMMARY:The Taylor Maids
DESCRIPTION:Peter Jones talks about The Taylor Maids. \nThe “Taylor Maids” referred to are Ann & Jane Taylor\, authors of “Twinkle\, Twinkle Little Star”. They lived in West Stockwell Street\, Colchester\, in the 1800’s
URL:https://www.harwichguild.org.uk/event/the-taylor-maids/
LOCATION:United Services Club\, Harwich\, Essex\, CO12 3NS\, United Kingdom
CATEGORIES:Wednesday meeting
ATTACH;FMTTYPE=image/jpeg:https://www.harwichguild.org.uk/wp-content/uploads/2023/09/Taylor-Maids-Colchester-statue.jpeg
END:VEVENT
END:VCALENDAR