BEGIN:VCALENDAR
VERSION:2.0
PRODID:-//The Harwich Centre Guild - ECPv6.15.17//NONSGML v1.0//EN
CALSCALE:GREGORIAN
METHOD:PUBLISH
X-ORIGINAL-URL:https://www.harwichguild.org.uk
X-WR-CALDESC:Events for The Harwich Centre Guild
REFRESH-INTERVAL;VALUE=DURATION:PT1H
X-Robots-Tag:noindex
X-PUBLISHED-TTL:PT1H
BEGIN:VTIMEZONE
TZID:Europe/London
BEGIN:DAYLIGHT
TZOFFSETFROM:+0000
TZOFFSETTO:+0100
TZNAME:BST
DTSTART:20220327T010000
END:DAYLIGHT
BEGIN:STANDARD
TZOFFSETFROM:+0100
TZOFFSETTO:+0000
TZNAME:GMT
DTSTART:20221030T010000
END:STANDARD
BEGIN:DAYLIGHT
TZOFFSETFROM:+0000
TZOFFSETTO:+0100
TZNAME:BST
DTSTART:20230326T010000
END:DAYLIGHT
BEGIN:STANDARD
TZOFFSETFROM:+0100
TZOFFSETTO:+0000
TZNAME:GMT
DTSTART:20231029T010000
END:STANDARD
BEGIN:DAYLIGHT
TZOFFSETFROM:+0000
TZOFFSETTO:+0100
TZNAME:BST
DTSTART:20240331T010000
END:DAYLIGHT
BEGIN:STANDARD
TZOFFSETFROM:+0100
TZOFFSETTO:+0000
TZNAME:GMT
DTSTART:20241027T010000
END:STANDARD
END:VTIMEZONE
BEGIN:VEVENT
DTSTART;TZID=Europe/London:20230201T100000
DTEND;TZID=Europe/London:20230201T120000
DTSTAMP:20260420T102137
CREATED:20220831T083112Z
LAST-MODIFIED:20220831T083120Z
UID:599-1675245600-1675252800@www.harwichguild.org.uk
SUMMARY:The 1953 floods - 70 years on
DESCRIPTION:Exactly 70 years after the East Coast Flood\, Historian David Whittle looks at the devastating event.
URL:https://www.harwichguild.org.uk/event/the-1953-floods-70-years-on/
LOCATION:United Services Club\, Harwich\, Essex\, CO12 3NS\, United Kingdom
CATEGORIES:Wednesday meeting
ATTACH;FMTTYPE=image/jpeg:https://www.harwichguild.org.uk/wp-content/uploads/2022/08/flood-caravans.jpg
END:VEVENT
BEGIN:VEVENT
DTSTART;TZID=Europe/London:20230208T100000
DTEND;TZID=Europe/London:20230208T120000
DTSTAMP:20260420T102137
CREATED:20211220T134632Z
LAST-MODIFIED:20220831T090635Z
UID:489-1675850400-1675857600@www.harwichguild.org.uk
SUMMARY:Bishops and Brothels (Southwark\, London)
DESCRIPTION:Gary Egerton presents ‘Bishops and Brothels (Southwark\, London)’
URL:https://www.harwichguild.org.uk/event/bishops-and-brothels-southwark-london/
LOCATION:United Services Club\, Harwich\, Essex\, CO12 3NS\, United Kingdom
CATEGORIES:Wednesday meeting
ATTACH;FMTTYPE=image/jpeg:https://www.harwichguild.org.uk/wp-content/uploads/2021/12/Northwest_View_of_Southwark_Cathedral_01.jpg
END:VEVENT
BEGIN:VEVENT
DTSTART;TZID=Europe/London:20230222T100000
DTEND;TZID=Europe/London:20230222T120000
DTSTAMP:20260420T102137
CREATED:20220831T093957Z
LAST-MODIFIED:20220831T094440Z
UID:619-1677060000-1677067200@www.harwichguild.org.uk
SUMMARY:Two Suffolk Artists
DESCRIPTION:TWO SUFFOLK ARTISTS\nThomas Gainsborough and John Constable \nWith Mark Mitchels \nThroughout the world the work of these two artists offers a view of England which is still largely unchallenged. Their paintings adorn the walls of the world’s finest galleries\, but they also are instantly familiar to us through a host of reproductions. For generations they have defined what we mean by the term masterpiece. Both artists had a clear sense of purpose\, and they both had to overcome considerable obstacles before they could be accepted by their peers. Gainsborough rose to become the portrait painter of high society\, including the court of George lll\, but he only ever wanted to paint the Suffolk countryside. Constable chose to paint the subjects which interested him\, even if the public did not share his enthusiasm for landscapes and rustic scenes. His determination to paint as he wished ensured that he remained relatively poor and neglected\, and his attitude towards the art and artists of his age was based on painful experience! This lecture does more than just tell the story of their lives\, it also provides a gallery of their finest work.
URL:https://www.harwichguild.org.uk/event/two-suffolk-artists/
LOCATION:United Services Club\, Harwich\, Essex\, CO12 3NS\, United Kingdom
CATEGORIES:Wednesday meeting
ATTACH;FMTTYPE=image/jpeg:https://www.harwichguild.org.uk/wp-content/uploads/2022/08/Willy_Lotts_Cottage_-_Constable.jpg
END:VEVENT
END:VCALENDAR