BEGIN:VCALENDAR
VERSION:2.0
PRODID:-//The Harwich Centre Guild - ECPv6.15.17//NONSGML v1.0//EN
CALSCALE:GREGORIAN
METHOD:PUBLISH
X-WR-CALNAME:The Harwich Centre Guild
X-ORIGINAL-URL:https://www.harwichguild.org.uk
X-WR-CALDESC:Events for The Harwich Centre Guild
REFRESH-INTERVAL;VALUE=DURATION:PT1H
X-Robots-Tag:noindex
X-PUBLISHED-TTL:PT1H
BEGIN:VTIMEZONE
TZID:Europe/London
BEGIN:DAYLIGHT
TZOFFSETFROM:+0000
TZOFFSETTO:+0100
TZNAME:BST
DTSTART:20220327T010000
END:DAYLIGHT
BEGIN:STANDARD
TZOFFSETFROM:+0100
TZOFFSETTO:+0000
TZNAME:GMT
DTSTART:20221030T010000
END:STANDARD
BEGIN:DAYLIGHT
TZOFFSETFROM:+0000
TZOFFSETTO:+0100
TZNAME:BST
DTSTART:20230326T010000
END:DAYLIGHT
BEGIN:STANDARD
TZOFFSETFROM:+0100
TZOFFSETTO:+0000
TZNAME:GMT
DTSTART:20231029T010000
END:STANDARD
BEGIN:DAYLIGHT
TZOFFSETFROM:+0000
TZOFFSETTO:+0100
TZNAME:BST
DTSTART:20240331T010000
END:DAYLIGHT
BEGIN:STANDARD
TZOFFSETFROM:+0100
TZOFFSETTO:+0000
TZNAME:GMT
DTSTART:20241027T010000
END:STANDARD
END:VTIMEZONE
BEGIN:VEVENT
DTSTART;TZID=Europe/London:20230111T100000
DTEND;TZID=Europe/London:20230111T120000
DTSTAMP:20260422T002725
CREATED:20220830T161559Z
LAST-MODIFIED:20220830T161625Z
UID:590-1673431200-1673438400@www.harwichguild.org.uk
SUMMARY:The mysteries of Easter Island
DESCRIPTION:With Chris Parfitt
URL:https://www.harwichguild.org.uk/event/the-mysteries-of-easter-island/
LOCATION:United Services Club\, Harwich\, Essex\, CO12 3NS\, United Kingdom
CATEGORIES:Wednesday meeting
ATTACH;FMTTYPE=image/jpeg:https://www.harwichguild.org.uk/wp-content/uploads/2022/08/Moai_Easter_Island_206339_letterbox.jpg
END:VEVENT
BEGIN:VEVENT
DTSTART;TZID=Europe/London:20230118T100000
DTEND;TZID=Europe/London:20230118T120000
DTSTAMP:20260422T002725
CREATED:20220830T191556Z
LAST-MODIFIED:20220830T191556Z
UID:593-1674036000-1674043200@www.harwichguild.org.uk
SUMMARY:La Veuve Clicquot
DESCRIPTION:La Veuve Clicquot: The woman behind the wines \nby Paula Short
URL:https://www.harwichguild.org.uk/event/la-veuve-clicquot/
LOCATION:United Services Club\, Harwich\, Essex\, CO12 3NS\, United Kingdom
CATEGORIES:Wednesday meeting
ATTACH;FMTTYPE=image/jpeg:https://www.harwichguild.org.uk/wp-content/uploads/2022/08/Veuve_clicquot-scaled.jpg
END:VEVENT
BEGIN:VEVENT
DTSTART;TZID=Europe/London:20230125T100000
DTEND;TZID=Europe/London:20230125T120000
DTSTAMP:20260422T002725
CREATED:20220831T081732Z
LAST-MODIFIED:20230223T180046Z
UID:596-1674640800-1674648000@www.harwichguild.org.uk
SUMMARY:Living with the Paranormal
DESCRIPTION:New: Living with the Paranormal with Judith Hood \nI was 14 when I saw my first spirit as a full apparition or so I thought; recently I have discovered it was happening even earlier than that.  Throughout my life I have experienced things which are generally considered to be paranormal.  It has been ten years since I discovered exactly what it was that was happening to me.  This lighthearted talk will explain how it felt to suddenly realise just how different I am and what occurred to prove just how real it all is.  Many of the tales are startling and most certainly thought provoking. \n\nThis replaces: WE’LL MEET AGAIN: An evacuee’s story. \nBilly Jackson\, a pearly king from Bethnal Green\, vividly describes what life was like when he and his sister were evacuated to an East Anglian farm at the outbreak of WW2 and the horrors of the blitz in London. A 45 minute performance piece/story
URL:https://www.harwichguild.org.uk/event/living-with-paranormal/
LOCATION:United Services Club\, Harwich\, Essex\, CO12 3NS\, United Kingdom
CATEGORIES:Wednesday meeting
ATTACH;FMTTYPE=image/jpeg:https://www.harwichguild.org.uk/wp-content/uploads/2022/08/judith_hood-320x320-1.jpeg
END:VEVENT
END:VCALENDAR