BEGIN:VCALENDAR
VERSION:2.0
PRODID:-//The Harwich Centre Guild - ECPv6.15.17//NONSGML v1.0//EN
CALSCALE:GREGORIAN
METHOD:PUBLISH
X-WR-CALNAME:The Harwich Centre Guild
X-ORIGINAL-URL:https://www.harwichguild.org.uk
X-WR-CALDESC:Events for The Harwich Centre Guild
REFRESH-INTERVAL;VALUE=DURATION:PT1H
X-Robots-Tag:noindex
X-PUBLISHED-TTL:PT1H
BEGIN:VTIMEZONE
TZID:Europe/London
BEGIN:DAYLIGHT
TZOFFSETFROM:+0000
TZOFFSETTO:+0100
TZNAME:BST
DTSTART:20210328T010000
END:DAYLIGHT
BEGIN:STANDARD
TZOFFSETFROM:+0100
TZOFFSETTO:+0000
TZNAME:GMT
DTSTART:20211031T010000
END:STANDARD
BEGIN:DAYLIGHT
TZOFFSETFROM:+0000
TZOFFSETTO:+0100
TZNAME:BST
DTSTART:20220327T010000
END:DAYLIGHT
BEGIN:STANDARD
TZOFFSETFROM:+0100
TZOFFSETTO:+0000
TZNAME:GMT
DTSTART:20221030T010000
END:STANDARD
BEGIN:DAYLIGHT
TZOFFSETFROM:+0000
TZOFFSETTO:+0100
TZNAME:BST
DTSTART:20230326T010000
END:DAYLIGHT
BEGIN:STANDARD
TZOFFSETFROM:+0100
TZOFFSETTO:+0000
TZNAME:GMT
DTSTART:20231029T010000
END:STANDARD
END:VTIMEZONE
BEGIN:VEVENT
DTSTART;TZID=Europe/London:20221005T100000
DTEND;TZID=Europe/London:20221005T120000
DTSTAMP:20260420T173350
CREATED:20220827T094818Z
LAST-MODIFIED:20221004T084213Z
UID:544-1664964000-1664971200@www.harwichguild.org.uk
SUMMARY:History of Playing Cards
DESCRIPTION:This week Colin Hopper will tell us about the history of playing cards
URL:https://www.harwichguild.org.uk/event/history-of-playing-cards/
LOCATION:United Services Club\, Harwich\, Essex\, CO12 3NS\, United Kingdom
CATEGORIES:Wednesday meeting
ATTACH;FMTTYPE=image/png:https://www.harwichguild.org.uk/wp-content/uploads/2022/08/kTMbeg59c.png
END:VEVENT
BEGIN:VEVENT
DTSTART;TZID=Europe/London:20221005T100000
DTEND;TZID=Europe/London:20221005T120000
DTSTAMP:20260420T173350
CREATED:20220827T160254Z
LAST-MODIFIED:20221004T090702Z
UID:556-1664964000-1664971200@www.harwichguild.org.uk
SUMMARY:Postponed: Frauds & Fraudsters
DESCRIPTION:With David Clarke \nThis talk has been postponed and will be replaced with History of Playing Cards
URL:https://www.harwichguild.org.uk/event/frauds-fraudsters/
LOCATION:United Services Club\, Harwich\, Essex\, CO12 3NS\, United Kingdom
CATEGORIES:Wednesday meeting
ATTACH;FMTTYPE=image/webp:https://www.harwichguild.org.uk/wp-content/uploads/2022/08/0338f33a-5c56-11ec-b618-6d82ca2b0f6a_1639428609771.webp
END:VEVENT
BEGIN:VEVENT
DTSTART;TZID=Europe/London:20221012T100000
DTEND;TZID=Europe/London:20221012T120000
DTSTAMP:20260420T173350
CREATED:20220827T160354Z
LAST-MODIFIED:20220828T101307Z
UID:558-1665568800-1665576000@www.harwichguild.org.uk
SUMMARY:Coming back to butterflies
DESCRIPTION:With Neil Dickinson
URL:https://www.harwichguild.org.uk/event/coming-back-to-butterflies/
LOCATION:United Services Club\, Harwich\, Essex\, CO12 3NS\, United Kingdom
CATEGORIES:Wednesday meeting
ATTACH;FMTTYPE=image/jpeg:https://www.harwichguild.org.uk/wp-content/uploads/2022/08/swallowtail_vulnerable_iainhleach.jpg
END:VEVENT
BEGIN:VEVENT
DTSTART;TZID=Europe/London:20221019T100000
DTEND;TZID=Europe/London:20221019T120000
DTSTAMP:20260420T173350
CREATED:20220827T162642Z
LAST-MODIFIED:20220828T100910Z
UID:560-1666173600-1666180800@www.harwichguild.org.uk
SUMMARY:Churchill's S.O.E. spies
DESCRIPTION:With historian Dr Hugh Frostick
URL:https://www.harwichguild.org.uk/event/churchills-s-o-e-spies/
LOCATION:United Services Club\, Harwich\, Essex\, CO12 3NS\, United Kingdom
CATEGORIES:Wednesday meeting
ATTACH;FMTTYPE=image/jpeg:https://www.harwichguild.org.uk/wp-content/uploads/2022/08/SOE-750x1000-1-e1661681308900.jpg
END:VEVENT
BEGIN:VEVENT
DTSTART;VALUE=DATE:20221026
DTEND;VALUE=DATE:20221027
DTSTAMP:20260420T173350
CREATED:20220827T163013Z
LAST-MODIFIED:20220827T163013Z
UID:563-1666742400-1666828799@www.harwichguild.org.uk
SUMMARY:No meeting
DESCRIPTION:
URL:https://www.harwichguild.org.uk/event/no-meeting/
LOCATION:Essex
CATEGORIES:Wednesday meeting
END:VEVENT
END:VCALENDAR