BEGIN:VCALENDAR
VERSION:2.0
PRODID:-//The Harwich Centre Guild - ECPv6.15.17//NONSGML v1.0//EN
CALSCALE:GREGORIAN
METHOD:PUBLISH
X-WR-CALNAME:The Harwich Centre Guild
X-ORIGINAL-URL:https://www.harwichguild.org.uk
X-WR-CALDESC:Events for The Harwich Centre Guild
REFRESH-INTERVAL;VALUE=DURATION:PT1H
X-Robots-Tag:noindex
X-PUBLISHED-TTL:PT1H
BEGIN:VTIMEZONE
TZID:Europe/London
BEGIN:DAYLIGHT
TZOFFSETFROM:+0000
TZOFFSETTO:+0100
TZNAME:BST
DTSTART:20210328T010000
END:DAYLIGHT
BEGIN:STANDARD
TZOFFSETFROM:+0100
TZOFFSETTO:+0000
TZNAME:GMT
DTSTART:20211031T010000
END:STANDARD
BEGIN:DAYLIGHT
TZOFFSETFROM:+0000
TZOFFSETTO:+0100
TZNAME:BST
DTSTART:20220327T010000
END:DAYLIGHT
BEGIN:STANDARD
TZOFFSETFROM:+0100
TZOFFSETTO:+0000
TZNAME:GMT
DTSTART:20221030T010000
END:STANDARD
BEGIN:DAYLIGHT
TZOFFSETFROM:+0000
TZOFFSETTO:+0100
TZNAME:BST
DTSTART:20230326T010000
END:DAYLIGHT
BEGIN:STANDARD
TZOFFSETFROM:+0100
TZOFFSETTO:+0000
TZNAME:GMT
DTSTART:20231029T010000
END:STANDARD
END:VTIMEZONE
BEGIN:VEVENT
DTSTART;TZID=Europe/London:20220504T100000
DTEND;TZID=Europe/London:20220504T120000
DTSTAMP:20260422T095648
CREATED:20220223T085410Z
LAST-MODIFIED:20220223T085410Z
UID:517-1651658400-1651665600@www.harwichguild.org.uk
SUMMARY:Arsenic’s Toxic Legacy: People\, Places and Peppermints
DESCRIPTION:“Arsenic’s Toxic Legacy: People\, Places\, Pests and Peppermints” with Neil Dickinson is a look at how\, during the 19th and 20th centuries\, arsenic and its compounds appeared to offer marvellous solutions particularly in the spheres of medicine\, fashion\, design and pest control so long as an increasingly blind-eye was turned to the problem of its dreadful toxicity
URL:https://www.harwichguild.org.uk/event/arsenics-toxic-legacy-people-places-and-peppermints/
LOCATION:United Services Club\, Harwich\, Essex\, CO12 3NS\, United Kingdom
CATEGORIES:Wednesday meeting
ATTACH;FMTTYPE=image/jpeg:https://www.harwichguild.org.uk/wp-content/uploads/2022/02/neil-dickinson-full.jpg
END:VEVENT
BEGIN:VEVENT
DTSTART;TZID=Europe/London:20220511T100000
DTEND;TZID=Europe/London:20220511T120000
DTSTAMP:20260422T095648
CREATED:20220223T085752Z
LAST-MODIFIED:20220223T085752Z
UID:520-1652263200-1652270400@www.harwichguild.org.uk
SUMMARY:Comic Verse I wish I’d Written
DESCRIPTION:“Comic Verse I wish I’d Written” with Erik Punaks
URL:https://www.harwichguild.org.uk/event/comic-verse-i-wish-id-written/
LOCATION:United Services Club\, Harwich\, Essex\, CO12 3NS\, United Kingdom
CATEGORIES:Wednesday meeting
END:VEVENT
BEGIN:VEVENT
DTSTART;TZID=Europe/London:20220518T100000
DTEND;TZID=Europe/London:20220518T120000
DTSTAMP:20260422T095648
CREATED:20220223T085951Z
LAST-MODIFIED:20220223T090031Z
UID:522-1652868000-1652875200@www.harwichguild.org.uk
SUMMARY:Horatio\, Lord Nelson
DESCRIPTION:“Horatio\, Lord Nelson” with Mark Mitchels
URL:https://www.harwichguild.org.uk/event/horatio-lord-nelson/
LOCATION:United Services Club\, Harwich\, Essex\, CO12 3NS\, United Kingdom
CATEGORIES:Wednesday meeting
ATTACH;FMTTYPE=image/jpeg:https://www.harwichguild.org.uk/wp-content/uploads/2019/11/nelson.jpeg
END:VEVENT
BEGIN:VEVENT
DTSTART;TZID=Europe/London:20220525T100000
DTEND;TZID=Europe/London:20220525T120000
DTSTAMP:20260422T095648
CREATED:20220223T090326Z
LAST-MODIFIED:20220223T090532Z
UID:525-1653472800-1653480000@www.harwichguild.org.uk
SUMMARY:The Notorious Whistlecraft Family of Rickinghall
DESCRIPTION:“The Notorious Whistlecraft Family of Rickinghall” with Pip Wright \nThe Whistlecrafts of Rickinghall were known as a notorious family of poachers — their court appearances ran into the two hundreds. … Whistlecraft: The true story of the poachers in Rickinghall\, is a novel told from the viewpoint of Joe Whistlecraft. \n 
URL:https://www.harwichguild.org.uk/event/the-notorious-whistlecraft-family-of-rickinghall/
LOCATION:United Services Club\, Harwich\, Essex\, CO12 3NS\, United Kingdom
CATEGORIES:Wednesday meeting
ATTACH;FMTTYPE=image/jpeg:https://www.harwichguild.org.uk/wp-content/uploads/2019/11/whistlecraft.jpg
END:VEVENT
END:VCALENDAR