BEGIN:VCALENDAR
VERSION:2.0
PRODID:-//The Harwich Centre Guild - ECPv6.15.17//NONSGML v1.0//EN
CALSCALE:GREGORIAN
METHOD:PUBLISH
X-ORIGINAL-URL:https://www.harwichguild.org.uk
X-WR-CALDESC:Events for The Harwich Centre Guild
REFRESH-INTERVAL;VALUE=DURATION:PT1H
X-Robots-Tag:noindex
X-PUBLISHED-TTL:PT1H
BEGIN:VTIMEZONE
TZID:Europe/London
BEGIN:DAYLIGHT
TZOFFSETFROM:+0000
TZOFFSETTO:+0100
TZNAME:BST
DTSTART:20210328T010000
END:DAYLIGHT
BEGIN:STANDARD
TZOFFSETFROM:+0100
TZOFFSETTO:+0000
TZNAME:GMT
DTSTART:20211031T010000
END:STANDARD
BEGIN:DAYLIGHT
TZOFFSETFROM:+0000
TZOFFSETTO:+0100
TZNAME:BST
DTSTART:20220327T010000
END:DAYLIGHT
BEGIN:STANDARD
TZOFFSETFROM:+0100
TZOFFSETTO:+0000
TZNAME:GMT
DTSTART:20221030T010000
END:STANDARD
BEGIN:DAYLIGHT
TZOFFSETFROM:+0000
TZOFFSETTO:+0100
TZNAME:BST
DTSTART:20230326T010000
END:DAYLIGHT
BEGIN:STANDARD
TZOFFSETFROM:+0100
TZOFFSETTO:+0000
TZNAME:GMT
DTSTART:20231029T010000
END:STANDARD
END:VTIMEZONE
BEGIN:VEVENT
DTSTART;TZID=Europe/London:20220302T100000
DTEND;TZID=Europe/London:20220302T120000
DTSTAMP:20260422T122635
CREATED:20211220T134351Z
LAST-MODIFIED:20211220T134351Z
UID:485-1646215200-1646222400@www.harwichguild.org.uk
SUMMARY:The Wildlife of Tendring
DESCRIPTION:Bob Seago presents ‘The Wildlife of Tendring’
URL:https://www.harwichguild.org.uk/event/the-wildlife-of-tendring/
LOCATION:United Services Club\, Harwich\, Essex\, CO12 3NS\, United Kingdom
CATEGORIES:Wednesday meeting
END:VEVENT
BEGIN:VEVENT
DTSTART;TZID=Europe/London:20220323T100000
DTEND;TZID=Europe/London:20220323T120000
DTSTAMP:20260422T122635
CREATED:20211220T134817Z
LAST-MODIFIED:20211220T134817Z
UID:491-1648029600-1648036800@www.harwichguild.org.uk
SUMMARY:A Tale of Two Geniuses
DESCRIPTION:Mark Rowland presents ‘A Tale of Two Geniuses’
URL:https://www.harwichguild.org.uk/event/a-tale-of-two-geniuses/
LOCATION:United Services Club\, Harwich\, Essex\, CO12 3NS\, United Kingdom
CATEGORIES:Wednesday meeting
END:VEVENT
BEGIN:VEVENT
DTSTART;TZID=Europe/London:20220330T100000
DTEND;TZID=Europe/London:20220330T120000
DTSTAMP:20260422T122635
CREATED:20211220T135847Z
LAST-MODIFIED:20211220T135847Z
UID:493-1648634400-1648641600@www.harwichguild.org.uk
SUMMARY:Chile – The Long Thin Country
DESCRIPTION:Chris Parfitt presents ‘Chile – The Long Thin Country’
URL:https://www.harwichguild.org.uk/event/chile-the-long-thin-country/
LOCATION:United Services Club\, Harwich\, Essex\, CO12 3NS\, United Kingdom
CATEGORIES:Wednesday meeting
END:VEVENT
END:VCALENDAR