BEGIN:VCALENDAR
VERSION:2.0
PRODID:-//The Harwich Centre Guild - ECPv6.15.17//NONSGML v1.0//EN
CALSCALE:GREGORIAN
METHOD:PUBLISH
X-WR-CALNAME:The Harwich Centre Guild
X-ORIGINAL-URL:https://www.harwichguild.org.uk
X-WR-CALDESC:Events for The Harwich Centre Guild
REFRESH-INTERVAL;VALUE=DURATION:PT1H
X-Robots-Tag:noindex
X-PUBLISHED-TTL:PT1H
BEGIN:VTIMEZONE
TZID:Europe/London
BEGIN:DAYLIGHT
TZOFFSETFROM:+0000
TZOFFSETTO:+0100
TZNAME:BST
DTSTART:20210328T010000
END:DAYLIGHT
BEGIN:STANDARD
TZOFFSETFROM:+0100
TZOFFSETTO:+0000
TZNAME:GMT
DTSTART:20211031T010000
END:STANDARD
BEGIN:DAYLIGHT
TZOFFSETFROM:+0000
TZOFFSETTO:+0100
TZNAME:BST
DTSTART:20220327T010000
END:DAYLIGHT
BEGIN:STANDARD
TZOFFSETFROM:+0100
TZOFFSETTO:+0000
TZNAME:GMT
DTSTART:20221030T010000
END:STANDARD
BEGIN:DAYLIGHT
TZOFFSETFROM:+0000
TZOFFSETTO:+0100
TZNAME:BST
DTSTART:20230326T010000
END:DAYLIGHT
BEGIN:STANDARD
TZOFFSETFROM:+0100
TZOFFSETTO:+0000
TZNAME:GMT
DTSTART:20231029T010000
END:STANDARD
END:VTIMEZONE
BEGIN:VEVENT
DTSTART;TZID=Europe/London:20220202T100000
DTEND;TZID=Europe/London:20220202T120000
DTSTAMP:20260422T133945
CREATED:20211220T133935Z
LAST-MODIFIED:20211220T133935Z
UID:479-1643796000-1643803200@www.harwichguild.org.uk
SUMMARY:Stories of Raedwald\, the Man Under the Mound
DESCRIPTION:Julie Wheeler presents ‘Stories of Raedwald\, the Man Under the Mound’
URL:https://www.harwichguild.org.uk/event/stories-of-raedwald-the-man-under-the-mound/
LOCATION:United Services Club\, Harwich\, Essex\, CO12 3NS\, United Kingdom
CATEGORIES:Wednesday meeting
END:VEVENT
BEGIN:VEVENT
DTSTART;TZID=Europe/London:20220209T100000
DTEND;TZID=Europe/London:20220209T120000
DTSTAMP:20260422T133945
CREATED:20211220T134042Z
LAST-MODIFIED:20211220T134042Z
UID:481-1644400800-1644408000@www.harwichguild.org.uk
SUMMARY:Looking for a Tree – Finding a Pinetum
DESCRIPTION:David Gedye presents ‘Looking for a Tree – Finding a Pinetum’
URL:https://www.harwichguild.org.uk/event/looking-for-a-tree-finding-a-pinetum/
LOCATION:United Services Club\, Harwich\, Essex\, CO12 3NS\, United Kingdom
CATEGORIES:Wednesday meeting
END:VEVENT
BEGIN:VEVENT
DTSTART;TZID=Europe/London:20220223T100000
DTEND;TZID=Europe/London:20220223T120000
DTSTAMP:20260422T133945
CREATED:20211220T134205Z
LAST-MODIFIED:20211220T134205Z
UID:483-1645610400-1645617600@www.harwichguild.org.uk
SUMMARY:Optical Fibre
DESCRIPTION:Prof. John Midwinter presents ‘Optical Fibre’
URL:https://www.harwichguild.org.uk/event/optical-fibre/
LOCATION:United Services Club\, Harwich\, Essex\, CO12 3NS\, United Kingdom
CATEGORIES:Wednesday meeting
END:VEVENT
END:VCALENDAR