BEGIN:VCALENDAR
VERSION:2.0
PRODID:-//The Harwich Centre Guild - ECPv6.15.17//NONSGML v1.0//EN
CALSCALE:GREGORIAN
METHOD:PUBLISH
X-WR-CALNAME:The Harwich Centre Guild
X-ORIGINAL-URL:https://www.harwichguild.org.uk
X-WR-CALDESC:Events for The Harwich Centre Guild
REFRESH-INTERVAL;VALUE=DURATION:PT1H
X-Robots-Tag:noindex
X-PUBLISHED-TTL:PT1H
BEGIN:VTIMEZONE
TZID:Europe/London
BEGIN:DAYLIGHT
TZOFFSETFROM:+0000
TZOFFSETTO:+0100
TZNAME:BST
DTSTART:20210328T010000
END:DAYLIGHT
BEGIN:STANDARD
TZOFFSETFROM:+0100
TZOFFSETTO:+0000
TZNAME:GMT
DTSTART:20211031T010000
END:STANDARD
BEGIN:DAYLIGHT
TZOFFSETFROM:+0000
TZOFFSETTO:+0100
TZNAME:BST
DTSTART:20220327T010000
END:DAYLIGHT
BEGIN:STANDARD
TZOFFSETFROM:+0100
TZOFFSETTO:+0000
TZNAME:GMT
DTSTART:20221030T010000
END:STANDARD
BEGIN:DAYLIGHT
TZOFFSETFROM:+0000
TZOFFSETTO:+0100
TZNAME:BST
DTSTART:20230326T010000
END:DAYLIGHT
BEGIN:STANDARD
TZOFFSETFROM:+0100
TZOFFSETTO:+0000
TZNAME:GMT
DTSTART:20231029T010000
END:STANDARD
END:VTIMEZONE
BEGIN:VEVENT
DTSTART;TZID=Europe/London:20220112T100000
DTEND;TZID=Europe/London:20220112T120000
DTSTAMP:20260422T144841
CREATED:20210901T160150Z
LAST-MODIFIED:20220107T111657Z
UID:444-1641981600-1641988800@www.harwichguild.org.uk
SUMMARY:Ray Island
DESCRIPTION:This talk was postponed from last week. \n  \nRay Island (Harwich International Port) with David Whittle
URL:https://www.harwichguild.org.uk/event/ray-island/
LOCATION:United Services Club\, Harwich\, Essex\, CO12 3NS\, United Kingdom
CATEGORIES:Wednesday meeting
END:VEVENT
BEGIN:VEVENT
DTSTART;TZID=Europe/London:20220119T100000
DTEND;TZID=Europe/London:20220119T120000
DTSTAMP:20260422T144841
CREATED:20211220T133653Z
LAST-MODIFIED:20211220T133653Z
UID:475-1642586400-1642593600@www.harwichguild.org.uk
SUMMARY:Night Mail
DESCRIPTION:Peter Jones presents ‘Night Mail’
URL:https://www.harwichguild.org.uk/event/night-mail/
LOCATION:United Services Club\, Harwich\, Essex\, CO12 3NS\, United Kingdom
CATEGORIES:Wednesday meeting
END:VEVENT
BEGIN:VEVENT
DTSTART;TZID=Europe/London:20220126T100000
DTEND;TZID=Europe/London:20220126T120000
DTSTAMP:20260422T144841
CREATED:20211220T133826Z
LAST-MODIFIED:20211220T133826Z
UID:477-1643191200-1643198400@www.harwichguild.org.uk
SUMMARY:Days of Dolly Blue and Izal
DESCRIPTION:Brian Carline presents ‘Days of Dolly Blue and Izal’
URL:https://www.harwichguild.org.uk/event/days-of-dolly-blue-and-izal/
LOCATION:United Services Club\, Harwich\, Essex\, CO12 3NS\, United Kingdom
CATEGORIES:Wednesday meeting
END:VEVENT
END:VCALENDAR