BEGIN:VCALENDAR
VERSION:2.0
PRODID:-//The Harwich Centre Guild - ECPv6.15.17//NONSGML v1.0//EN
CALSCALE:GREGORIAN
METHOD:PUBLISH
X-WR-CALNAME:The Harwich Centre Guild
X-ORIGINAL-URL:https://www.harwichguild.org.uk
X-WR-CALDESC:Events for The Harwich Centre Guild
REFRESH-INTERVAL;VALUE=DURATION:PT1H
X-Robots-Tag:noindex
X-PUBLISHED-TTL:PT1H
BEGIN:VTIMEZONE
TZID:Europe/London
BEGIN:DAYLIGHT
TZOFFSETFROM:+0000
TZOFFSETTO:+0100
TZNAME:BST
DTSTART:20200329T010000
END:DAYLIGHT
BEGIN:STANDARD
TZOFFSETFROM:+0100
TZOFFSETTO:+0000
TZNAME:GMT
DTSTART:20201025T010000
END:STANDARD
BEGIN:DAYLIGHT
TZOFFSETFROM:+0000
TZOFFSETTO:+0100
TZNAME:BST
DTSTART:20210328T010000
END:DAYLIGHT
BEGIN:STANDARD
TZOFFSETFROM:+0100
TZOFFSETTO:+0000
TZNAME:GMT
DTSTART:20211031T010000
END:STANDARD
BEGIN:DAYLIGHT
TZOFFSETFROM:+0000
TZOFFSETTO:+0100
TZNAME:BST
DTSTART:20220327T010000
END:DAYLIGHT
BEGIN:STANDARD
TZOFFSETFROM:+0100
TZOFFSETTO:+0000
TZNAME:GMT
DTSTART:20221030T010000
END:STANDARD
END:VTIMEZONE
BEGIN:VEVENT
DTSTART;TZID=Europe/London:20211006T100000
DTEND;TZID=Europe/London:20211006T120000
DTSTAMP:20260422T185118
CREATED:20210901T154130Z
LAST-MODIFIED:20210901T172347Z
UID:423-1633514400-1633521600@www.harwichguild.org.uk
SUMMARY:Oliver Cromwell – Magic\, Mystery & Blood
DESCRIPTION:Oliver Cromwell – Magic\, Mystery & Blood with Tony Diamond \nTony Diamond has described Oliver Cromwell as ‘one of the greatest Englishmen who had ever lived’
URL:https://www.harwichguild.org.uk/event/oliver-cromwell-magic-mystery-blood/
LOCATION:United Services Club\, Harwich\, Essex\, CO12 3NS\, United Kingdom
CATEGORIES:Wednesday meeting
END:VEVENT
BEGIN:VEVENT
DTSTART;TZID=Europe/London:20211013T100000
DTEND;TZID=Europe/London:20211013T120000
DTSTAMP:20260422T185118
CREATED:20210901T154311Z
LAST-MODIFIED:20210902T072203Z
UID:425-1634119200-1634126400@www.harwichguild.org.uk
SUMMARY:History of Textiles in East Anglia
DESCRIPTION:The History of Textiles in East Anglia with Charlotte Harding \nDetails TBA
URL:https://www.harwichguild.org.uk/event/history-of-textiles-in-east-anglia/
LOCATION:United Services Club\, Harwich\, Essex\, CO12 3NS\, United Kingdom
CATEGORIES:Wednesday meeting
END:VEVENT
BEGIN:VEVENT
DTSTART;TZID=Europe/London:20211020T100000
DTEND;TZID=Europe/London:20211020T120000
DTSTAMP:20260422T185118
CREATED:20210901T154812Z
LAST-MODIFIED:20210902T095537Z
UID:427-1634724000-1634731200@www.harwichguild.org.uk
SUMMARY:Old London Bridge
DESCRIPTION:Old London Bridge with Colin Hopper \nDetails tba
URL:https://www.harwichguild.org.uk/event/old-london-bridge/
LOCATION:United Services Club\, Harwich\, Essex\, CO12 3NS\, United Kingdom
CATEGORIES:Wednesday meeting
END:VEVENT
END:VCALENDAR