BEGIN:VCALENDAR
VERSION:2.0
PRODID:-//The Harwich Centre Guild - ECPv6.15.17//NONSGML v1.0//EN
CALSCALE:GREGORIAN
METHOD:PUBLISH
X-WR-CALNAME:The Harwich Centre Guild
X-ORIGINAL-URL:https://www.harwichguild.org.uk
X-WR-CALDESC:Events for The Harwich Centre Guild
REFRESH-INTERVAL;VALUE=DURATION:PT1H
X-Robots-Tag:noindex
X-PUBLISHED-TTL:PT1H
BEGIN:VTIMEZONE
TZID:Europe/London
BEGIN:DAYLIGHT
TZOFFSETFROM:+0000
TZOFFSETTO:+0100
TZNAME:BST
DTSTART:20190331T010000
END:DAYLIGHT
BEGIN:STANDARD
TZOFFSETFROM:+0100
TZOFFSETTO:+0000
TZNAME:GMT
DTSTART:20191027T010000
END:STANDARD
BEGIN:DAYLIGHT
TZOFFSETFROM:+0000
TZOFFSETTO:+0100
TZNAME:BST
DTSTART:20200329T010000
END:DAYLIGHT
BEGIN:STANDARD
TZOFFSETFROM:+0100
TZOFFSETTO:+0000
TZNAME:GMT
DTSTART:20201025T010000
END:STANDARD
BEGIN:DAYLIGHT
TZOFFSETFROM:+0000
TZOFFSETTO:+0100
TZNAME:BST
DTSTART:20210328T010000
END:DAYLIGHT
BEGIN:STANDARD
TZOFFSETFROM:+0100
TZOFFSETTO:+0000
TZNAME:GMT
DTSTART:20211031T010000
END:STANDARD
END:VTIMEZONE
BEGIN:VEVENT
DTSTART;TZID=Europe/London:20200304T100000
DTEND;TZID=Europe/London:20200304T120000
DTSTAMP:20260423T175237
CREATED:20191119T203945Z
LAST-MODIFIED:20191119T213415Z
UID:128-1583316000-1583323200@www.harwichguild.org.uk
SUMMARY:Tale of Two Geniuses
DESCRIPTION:Shakespeare & Dickens are the subjects of this week’s talk by Mark Rowland of Footprints of London \nLondon guided walks
URL:https://www.harwichguild.org.uk/event/tale-of-two-geniuses/
LOCATION:United Services Club\, Harwich\, Essex\, CO12 3NS\, United Kingdom
CATEGORIES:Wednesday meeting
ATTACH;FMTTYPE=image/jpeg:https://www.harwichguild.org.uk/wp-content/uploads/2019/11/Dickens_Shakespeare.jpg
END:VEVENT
BEGIN:VEVENT
DTSTART;TZID=Europe/London:20200318T100000
DTEND;TZID=Europe/London:20200318T120000
DTSTAMP:20260423T175237
CREATED:20191119T214459Z
LAST-MODIFIED:20191119T214553Z
UID:133-1584525600-1584532800@www.harwichguild.org.uk
SUMMARY:James Herriot's Yorkshire
DESCRIPTION:Dudley Chignall is a keen mountain walker and photographer. He is also a broadcaster (Radio Essex)\, lecturer\, author and journalist.
URL:https://www.harwichguild.org.uk/event/james-herriots-yorkshire/
LOCATION:United Services Club\, Harwich\, Essex\, CO12 3NS\, United Kingdom
CATEGORIES:Wednesday meeting
ATTACH;FMTTYPE=image/jpeg:https://www.harwichguild.org.uk/wp-content/uploads/2019/11/Chignall.jpeg
END:VEVENT
END:VCALENDAR