BEGIN:VCALENDAR
VERSION:2.0
PRODID:-//The Harwich Centre Guild - ECPv6.15.17//NONSGML v1.0//EN
CALSCALE:GREGORIAN
METHOD:PUBLISH
X-WR-CALNAME:The Harwich Centre Guild
X-ORIGINAL-URL:https://www.harwichguild.org.uk
X-WR-CALDESC:Events for The Harwich Centre Guild
REFRESH-INTERVAL;VALUE=DURATION:PT1H
X-Robots-Tag:noindex
X-PUBLISHED-TTL:PT1H
BEGIN:VTIMEZONE
TZID:Europe/London
BEGIN:DAYLIGHT
TZOFFSETFROM:+0000
TZOFFSETTO:+0100
TZNAME:BST
DTSTART:20190331T010000
END:DAYLIGHT
BEGIN:STANDARD
TZOFFSETFROM:+0100
TZOFFSETTO:+0000
TZNAME:GMT
DTSTART:20191027T010000
END:STANDARD
BEGIN:DAYLIGHT
TZOFFSETFROM:+0000
TZOFFSETTO:+0100
TZNAME:BST
DTSTART:20200329T010000
END:DAYLIGHT
BEGIN:STANDARD
TZOFFSETFROM:+0100
TZOFFSETTO:+0000
TZNAME:GMT
DTSTART:20201025T010000
END:STANDARD
BEGIN:DAYLIGHT
TZOFFSETFROM:+0000
TZOFFSETTO:+0100
TZNAME:BST
DTSTART:20210328T010000
END:DAYLIGHT
BEGIN:STANDARD
TZOFFSETFROM:+0100
TZOFFSETTO:+0000
TZNAME:GMT
DTSTART:20211031T010000
END:STANDARD
END:VTIMEZONE
BEGIN:VEVENT
DTSTART;TZID=Europe/London:20200108T100000
DTEND;TZID=Europe/London:20200108T120000
DTSTAMP:20260423T202649
CREATED:20191103T195953Z
LAST-MODIFIED:20191119T190600Z
UID:42-1578477600-1578484800@www.harwichguild.org.uk
SUMMARY:The Land of the Maharajas
DESCRIPTION:Cherry Mullins has tales from the land of the maharajas this week.
URL:https://www.harwichguild.org.uk/event/the-land-of-the-maharajas/
LOCATION:United Services Club\, Harwich\, Essex\, CO12 3NS\, United Kingdom
CATEGORIES:Wednesday meeting
ATTACH;FMTTYPE=image/jpeg:https://www.harwichguild.org.uk/wp-content/uploads/2019/11/Maharajah_Duleep_Singh_dressed_for_a_State_function_c._1875.jpg
END:VEVENT
BEGIN:VEVENT
DTSTART;TZID=Europe/London:20200115T100000
DTEND;TZID=Europe/London:20200115T120000
DTSTAMP:20260423T202649
CREATED:20191103T200342Z
LAST-MODIFIED:20191103T200442Z
UID:44-1579082400-1579089600@www.harwichguild.org.uk
SUMMARY:Harwich's Lighthouses
DESCRIPTION:David Whittle of the Harwich Society joins us this week to talk about the lighthouses of Harwich and Dovercourt.
URL:https://www.harwichguild.org.uk/event/harwichs-lighthouses/
LOCATION:United Services Club\, Harwich\, Essex\, CO12 3NS\, United Kingdom
CATEGORIES:Wednesday meeting
ATTACH;FMTTYPE=image/jpeg:https://www.harwichguild.org.uk/wp-content/uploads/2019/11/102_1171.jpg
END:VEVENT
BEGIN:VEVENT
DTSTART;TZID=Europe/London:20200122T100000
DTEND;TZID=Europe/London:20200122T120000
DTSTAMP:20260423T202649
CREATED:20191103T201549Z
LAST-MODIFIED:20191119T190856Z
UID:48-1579687200-1579694400@www.harwichguild.org.uk
SUMMARY:Martello Towers
DESCRIPTION:Peter Jones is our guest this week and will be talking about the Martello Towers of Essex
URL:https://www.harwichguild.org.uk/event/martello-towers/
LOCATION:United Services Club\, Harwich\, Essex\, CO12 3NS\, United Kingdom
CATEGORIES:Wednesday meeting
ATTACH;FMTTYPE=image/jpeg:https://www.harwichguild.org.uk/wp-content/uploads/2019/11/cs-martello-tower-2.jpg
END:VEVENT
BEGIN:VEVENT
DTSTART;TZID=Europe/London:20200129T100000
DTEND;TZID=Europe/London:20200129T120000
DTSTAMP:20260423T202649
CREATED:20191119T191146Z
LAST-MODIFIED:20191119T191913Z
UID:114-1580292000-1580299200@www.harwichguild.org.uk
SUMMARY:Monkey Puzzle Miscellany
DESCRIPTION:Author David Geyde
URL:https://www.harwichguild.org.uk/event/monkey-puzzle-miscellany/
LOCATION:United Services Club\, Harwich\, Essex\, CO12 3NS\, United Kingdom
CATEGORIES:Wednesday meeting
ATTACH;FMTTYPE=image/jpeg:https://www.harwichguild.org.uk/wp-content/uploads/2019/11/david-gedye-full.jpg
END:VEVENT
END:VCALENDAR